BEGIN:VCALENDAR
VERSION:2.0
PRODID:-//SLHC - ECPv6.15.20//NONSGML v1.0//EN
CALSCALE:GREGORIAN
METHOD:PUBLISH
X-ORIGINAL-URL:https://smart-living-health.de
X-WR-CALDESC:Veranstaltungen für SLHC
REFRESH-INTERVAL;VALUE=DURATION:PT1H
X-Robots-Tag:noindex
X-PUBLISHED-TTL:PT1H
BEGIN:VTIMEZONE
TZID:Europe/Berlin
BEGIN:DAYLIGHT
TZOFFSETFROM:+0100
TZOFFSETTO:+0200
TZNAME:CEST
DTSTART:20220327T010000
END:DAYLIGHT
BEGIN:STANDARD
TZOFFSETFROM:+0200
TZOFFSETTO:+0100
TZNAME:CET
DTSTART:20221030T010000
END:STANDARD
BEGIN:DAYLIGHT
TZOFFSETFROM:+0100
TZOFFSETTO:+0200
TZNAME:CEST
DTSTART:20230326T010000
END:DAYLIGHT
BEGIN:STANDARD
TZOFFSETFROM:+0200
TZOFFSETTO:+0100
TZNAME:CET
DTSTART:20231029T010000
END:STANDARD
BEGIN:DAYLIGHT
TZOFFSETFROM:+0100
TZOFFSETTO:+0200
TZNAME:CEST
DTSTART:20240331T010000
END:DAYLIGHT
BEGIN:STANDARD
TZOFFSETFROM:+0200
TZOFFSETTO:+0100
TZNAME:CET
DTSTART:20241027T010000
END:STANDARD
END:VTIMEZONE
BEGIN:VEVENT
DTSTART;VALUE=DATE:20231109
DTEND;VALUE=DATE:20231110
DTSTAMP:20260421T001510
CREATED:20230127T152741Z
LAST-MODIFIED:20230127T152741Z
UID:3172-1699488000-1699574399@smart-living-health.de
SUMMARY:Berliner Pflegekonferenz
DESCRIPTION:Für innovative und effiziente Versorgungstrukturen in der Pflege – die bedarfsgerecht direkt den Versicherten zugutekommen
URL:https://smart-living-health.de/veranstaltung/berliner-pflegekonferenz/
LOCATION:WECC – Westhafen Event & Convention Center\, Westhafenstraße 1\, Berlin\, Berlin\, 13353\, Deutschland
CATEGORIES:Konferenz
END:VEVENT
BEGIN:VEVENT
DTSTART;VALUE=DATE:20231109
DTEND;VALUE=DATE:20231111
DTSTAMP:20260421T001510
CREATED:20230630T101016Z
LAST-MODIFIED:20230630T104822Z
UID:3381-1699488000-1699660799@smart-living-health.de
SUMMARY:17. Nationaler Qualitätskongress Gesundheit
DESCRIPTION:Zeitenwende im Kliniksektor: Mehr Qualität wagen!\n\n\nDemografischer Wandel\, Fachkräftemangel\, sektorenübergreifende Zusammenarbeit\, verändertes Patientenverhalten\, Digitalisierung und Klimaschutz – die Herausforderungen erfordern auch im Kliniksektor eine Zeitenwende. Die Patientenversorgung der Zukunft wird digitalisierter\, in weniger Betten\, mit weniger Fachkräften und mehr zu Pflegenden stattfinden. Neue Potenziale liegen in der Ambulantisierung\, Telemedizin und Digitalisierung. \nDie Krankenhausreform kommt. Nach der Einigung von Bund und Ländern soll die künftige Krankenhausplanung auf der Grundlage von definierten Leistungsgruppen erfolgen\, die eng mit bundesweit einheitlichen Qualitätskriterien verknüpft sind. Deutschlands Kliniken machen sich auf den Weg in eine neue Qualität. Das zeigt auch der erstmals verliehene Award „Hochzuverlässigkeit: Sicherheit und Qualität in Medizin und Pflege“. \nIm Mittelpunkt des 17. Nationalen Qualitätskongress Gesundheit stehen folgende Leitfragen und Themen: \n\nWelche Folgen hat die Krankenhausreform für die Qualitätssteuerung? Ist NRW ein Vorbild für alle?\nWie lässt sich das Risiko- und Qualitätsmanagement verbessern?\nWie geht es bei der Patienten- und Versorgungssicherheit und Notfallversorgung weiter?\nNeue Wege bei der Medikationssicherheit\nKlinische Datenzentren in kommunalen Krankenhäusern\nQualitätsmessung und -sicherung mit Routine- und Registerdaten\nGute Qualität in der Pflege\nLektionen für die Zukunft nach Corona\nMindful Leadership – neues Führen im Gesundheitssektor\n\nDiskutieren Sie mit !
URL:https://smart-living-health.de/veranstaltung/17-nationaler-qualitaetskongress-gesundheit/
LOCATION:Konrad Adenauer Stiftung\, Tiergartenstrasse 35\, Berlin\, 10785
CATEGORIES:Konferenz,Vor-Ort-Veranstaltung
END:VEVENT
END:VCALENDAR