BEGIN:VCALENDAR
VERSION:2.0
PRODID:-//SLHC - ECPv6.15.20//NONSGML v1.0//EN
CALSCALE:GREGORIAN
METHOD:PUBLISH
X-ORIGINAL-URL:https://smart-living-health.de
X-WR-CALDESC:Veranstaltungen für SLHC
REFRESH-INTERVAL;VALUE=DURATION:PT1H
X-Robots-Tag:noindex
X-PUBLISHED-TTL:PT1H
BEGIN:VTIMEZONE
TZID:Europe/Berlin
BEGIN:DAYLIGHT
TZOFFSETFROM:+0100
TZOFFSETTO:+0200
TZNAME:CEST
DTSTART:20220327T010000
END:DAYLIGHT
BEGIN:STANDARD
TZOFFSETFROM:+0200
TZOFFSETTO:+0100
TZNAME:CET
DTSTART:20221030T010000
END:STANDARD
BEGIN:DAYLIGHT
TZOFFSETFROM:+0100
TZOFFSETTO:+0200
TZNAME:CEST
DTSTART:20230326T010000
END:DAYLIGHT
BEGIN:STANDARD
TZOFFSETFROM:+0200
TZOFFSETTO:+0100
TZNAME:CET
DTSTART:20231029T010000
END:STANDARD
BEGIN:DAYLIGHT
TZOFFSETFROM:+0100
TZOFFSETTO:+0200
TZNAME:CEST
DTSTART:20240331T010000
END:DAYLIGHT
BEGIN:STANDARD
TZOFFSETFROM:+0200
TZOFFSETTO:+0100
TZNAME:CET
DTSTART:20241027T010000
END:STANDARD
END:VTIMEZONE
BEGIN:VEVENT
DTSTART;VALUE=DATE:20231015
DTEND;VALUE=DATE:20231018
DTSTAMP:20260421T041727
CREATED:20230728T112647Z
LAST-MODIFIED:20230728T112647Z
UID:3504-1697328000-1697587199@smart-living-health.de
SUMMARY:WORLD HEALTH SUMMIT 2023
DESCRIPTION:Health for All is the Goal – World Health Summit is the Forum\nThe World Health Summit 2023 from October 15-17 once again brings together stakeholders from politics\, science\, the private sector\, and civil society from around the world in Berlin\, Germany and online. Held under the theme „A Defining Year for Global Health Action“\, WHS 2023 will set the agenda for a healthier future by inspiring innovative solutions for better health and well-being for all.
URL:https://smart-living-health.de/veranstaltung/world-health-summit-2023/
LOCATION:JW Marriott Hotel Berlin\, Stauffenbergstraße 26\, Berlin\, 10785
CATEGORIES:Digital,Konferenz
ORGANIZER;CN="Charit%C3%A9 %E2%80%93 Universit%C3%A4tsmedizin Berlin":MAILTO:carsten.schicker@charite.de
END:VEVENT
END:VCALENDAR