BEGIN:VCALENDAR
VERSION:2.0
PRODID:-//SLHC - ECPv6.15.20//NONSGML v1.0//EN
CALSCALE:GREGORIAN
METHOD:PUBLISH
X-WR-CALNAME:SLHC
X-ORIGINAL-URL:https://smart-living-health.de
X-WR-CALDESC:Veranstaltungen für SLHC
REFRESH-INTERVAL;VALUE=DURATION:PT1H
X-Robots-Tag:noindex
X-PUBLISHED-TTL:PT1H
BEGIN:VTIMEZONE
TZID:Europe/Berlin
BEGIN:DAYLIGHT
TZOFFSETFROM:+0100
TZOFFSETTO:+0200
TZNAME:CEST
DTSTART:20220327T010000
END:DAYLIGHT
BEGIN:STANDARD
TZOFFSETFROM:+0200
TZOFFSETTO:+0100
TZNAME:CET
DTSTART:20221030T010000
END:STANDARD
BEGIN:DAYLIGHT
TZOFFSETFROM:+0100
TZOFFSETTO:+0200
TZNAME:CEST
DTSTART:20230326T010000
END:DAYLIGHT
BEGIN:STANDARD
TZOFFSETFROM:+0200
TZOFFSETTO:+0100
TZNAME:CET
DTSTART:20231029T010000
END:STANDARD
BEGIN:DAYLIGHT
TZOFFSETFROM:+0100
TZOFFSETTO:+0200
TZNAME:CEST
DTSTART:20240331T010000
END:DAYLIGHT
BEGIN:STANDARD
TZOFFSETFROM:+0200
TZOFFSETTO:+0100
TZNAME:CET
DTSTART:20241027T010000
END:STANDARD
END:VTIMEZONE
BEGIN:VEVENT
DTSTART;TZID=Europe/Berlin:20230930T100000
DTEND;TZID=Europe/Berlin:20230930T183000
DTSTAMP:20260421T042158
CREATED:20230724T084856Z
LAST-MODIFIED:20230724T084856Z
UID:3487-1696068000-1696098600@smart-living-health.de
SUMMARY:2. Notfallmedizinisches Symposium Berlin-Nordost
DESCRIPTION:Das 2. Notfallmedizinische Symposium ist eine gemeinsame Veranstaltung mit dem Sana Klinikum Lichtenberg und dem BG Klinikum Unfallkrankenhaus Berlin. Nach dem großen Zuspruch im vergangenen Jahr sind Notfallmedizinerinnen und -mediziner sowie Mitarbeiterinnen und Mitarbeiter von Rettungsstellen und Rettungsdiensten wieder herzlich eingeladen.
URL:https://smart-living-health.de/veranstaltung/2-notfallmedizinisches-symposium-berlin-nordost/
LOCATION:Berlin
CATEGORIES:Symposium,Vor-Ort-Veranstaltung
END:VEVENT
END:VCALENDAR