BEGIN:VCALENDAR
VERSION:2.0
PRODID:-//SLHC - ECPv6.15.20//NONSGML v1.0//EN
CALSCALE:GREGORIAN
METHOD:PUBLISH
X-ORIGINAL-URL:https://smart-living-health.de
X-WR-CALDESC:Veranstaltungen für SLHC
REFRESH-INTERVAL;VALUE=DURATION:PT1H
X-Robots-Tag:noindex
X-PUBLISHED-TTL:PT1H
BEGIN:VTIMEZONE
TZID:Europe/Berlin
BEGIN:DAYLIGHT
TZOFFSETFROM:+0100
TZOFFSETTO:+0200
TZNAME:CEST
DTSTART:20220327T010000
END:DAYLIGHT
BEGIN:STANDARD
TZOFFSETFROM:+0200
TZOFFSETTO:+0100
TZNAME:CET
DTSTART:20221030T010000
END:STANDARD
BEGIN:DAYLIGHT
TZOFFSETFROM:+0100
TZOFFSETTO:+0200
TZNAME:CEST
DTSTART:20230326T010000
END:DAYLIGHT
BEGIN:STANDARD
TZOFFSETFROM:+0200
TZOFFSETTO:+0100
TZNAME:CET
DTSTART:20231029T010000
END:STANDARD
BEGIN:DAYLIGHT
TZOFFSETFROM:+0100
TZOFFSETTO:+0200
TZNAME:CEST
DTSTART:20240331T010000
END:DAYLIGHT
BEGIN:STANDARD
TZOFFSETFROM:+0200
TZOFFSETTO:+0100
TZNAME:CET
DTSTART:20241027T010000
END:STANDARD
END:VTIMEZONE
BEGIN:VEVENT
DTSTART;TZID=Europe/Berlin:20230912T100000
DTEND;TZID=Europe/Berlin:20230912T150000
DTSTAMP:20260421T030550
CREATED:20230731T092104Z
LAST-MODIFIED:20230731T092104Z
UID:3513-1694512800-1694530800@smart-living-health.de
SUMMARY:Personalbindung im Gesundheitswesen – Strategien gegen Fluktuation und Fachkräftemangel entwickeln
DESCRIPTION:Schon seit Jahren klagt das Gesundheitswesen in Deutschland über Fachkräftemangel. Waren es anfangs noch primär Pflegekräfte\, die fehlten\, geht der Mangel inzwischen weit darüber hinaus und betrifft nahezu alle Berufsgruppen.\nGleichzeitig meinen viele im Gesundheitswesen Tätige\, dass sie ihren Beruf nicht bis zur Rente werden ausüben können. Auch das betrifft längst nicht mehr nur die Pflegekräfte. Nicht wenige sind bereits in andere Berufe abgewandert. Nach einer PWC-Studie könn(t)en 2035 etwa 35 Prozent der offenen Stellen im Gesundheitswesen nicht mehr besetzt werden. Was also tun? \nDie Veranstaltung gibt verschiedene Impulse für die Entwicklung von Strategien gegen Fluktuation und Fachkräftemangel im Gesundheitswesen. Im ersten Teil stehen ein Problemaufriss sowie mögliche Lösungsansätzen und Best-Practice-Beispiele im Vordergrund. Im zweiten Teil arbeiten die Teilnehmenden in Kleingruppen an den Themen „Gewinnung“\, „Bindung“ und „Bildung“ von Fachkräften.
URL:https://smart-living-health.de/veranstaltung/personalbindung-im-gesundheitswesen-strategien-gegen-fluktuation-und-fachkraeftemangel-entwickeln/
LOCATION:Fraunhofer Konferenzzentrum\, Am Mühlenberg 12\, Potsdam- Golm\, 14476
CATEGORIES:Konferenz
END:VEVENT
END:VCALENDAR