BEGIN:VCALENDAR
VERSION:2.0
PRODID:-//SLHC - ECPv6.15.20//NONSGML v1.0//EN
CALSCALE:GREGORIAN
METHOD:PUBLISH
X-ORIGINAL-URL:https://smart-living-health.de
X-WR-CALDESC:Veranstaltungen für SLHC
REFRESH-INTERVAL;VALUE=DURATION:PT1H
X-Robots-Tag:noindex
X-PUBLISHED-TTL:PT1H
BEGIN:VTIMEZONE
TZID:Europe/Berlin
BEGIN:DAYLIGHT
TZOFFSETFROM:+0100
TZOFFSETTO:+0200
TZNAME:CEST
DTSTART:20220327T010000
END:DAYLIGHT
BEGIN:STANDARD
TZOFFSETFROM:+0200
TZOFFSETTO:+0100
TZNAME:CET
DTSTART:20221030T010000
END:STANDARD
BEGIN:DAYLIGHT
TZOFFSETFROM:+0100
TZOFFSETTO:+0200
TZNAME:CEST
DTSTART:20230326T010000
END:DAYLIGHT
BEGIN:STANDARD
TZOFFSETFROM:+0200
TZOFFSETTO:+0100
TZNAME:CET
DTSTART:20231029T010000
END:STANDARD
BEGIN:DAYLIGHT
TZOFFSETFROM:+0100
TZOFFSETTO:+0200
TZNAME:CEST
DTSTART:20240331T010000
END:DAYLIGHT
BEGIN:STANDARD
TZOFFSETFROM:+0200
TZOFFSETTO:+0100
TZNAME:CET
DTSTART:20241027T010000
END:STANDARD
END:VTIMEZONE
BEGIN:VEVENT
DTSTART;TZID=Europe/Berlin:20230726T100000
DTEND;TZID=Europe/Berlin:20230726T113000
DTSTAMP:20260423T151804
CREATED:20230719T095357Z
LAST-MODIFIED:20230719T101139Z
UID:3473-1690365600-1690371000@smart-living-health.de
SUMMARY:Wohnformen im Alter - DIGITAL
DESCRIPTION:
URL:https://smart-living-health.de/veranstaltung/wohnformen-im-alter-digital/
LOCATION:Online
CATEGORIES:Digital
END:VEVENT
BEGIN:VEVENT
DTSTART;TZID=Europe/Berlin:20230726T160000
DTEND;TZID=Europe/Berlin:20230726T170000
DTSTAMP:20260423T151804
CREATED:20230720T073207Z
LAST-MODIFIED:20230720T105712Z
UID:3482-1690387200-1690390800@smart-living-health.de
SUMMARY:Hitzeschutz in der Pflege
DESCRIPTION:Welche Vorkehrungen helfen\, die Auswirkungen der Hitze in den Pflegeeinrichtungen und für die Bewohnerinnen und Bewohner so gering wie möglich zu halten? Wie können diese Maßnahmen alle Beteiligten bestmöglich schützen und Arbeitsabläufe sicherstellen? Dr. Julia Schoierer leitet die Arbeitsgruppe Globale Umweltgesundheit und Klimawandel am Klinikum der Ludwig-Maximilians-Universität (LMU) in München. Im Rahmen der Deutschen Anpassungsstrategie an den Klimawandel des Bundesumweltministeriums erarbeitete sie unter anderem Maßnahmen zum Hitzeschutz von Beschäftigten in der Pflege. \nAls Leitung des Projektes „Hitzeservice statt Hitzestress“ hat sie zudem daran mitgewirkt\, die vom BMG-geförderte Plattform hitzeservice.de aufzubauen\, welches für Kommunen ein wichtiges Instrument zur Umsetzung von Hitzeschutzmaßnahmen darstellt. \nIm Praxisdialog am 26. Juli um 16 Uhr stellt sie diese Aktivitäten vor und erläutert\, worauf es beim Hitzeschutz in der Pflege ankommt. \nMelden Sie sich unter praxisdialog@pflegenetzwerk-deutschland.de an!
URL:https://smart-living-health.de/veranstaltung/hitzeschutz-in-der-pflege/
LOCATION:Online
CATEGORIES:Digital
END:VEVENT
END:VCALENDAR