BEGIN:VCALENDAR
VERSION:2.0
PRODID:-//SLHC - ECPv6.15.20//NONSGML v1.0//EN
CALSCALE:GREGORIAN
METHOD:PUBLISH
X-ORIGINAL-URL:https://smart-living-health.de
X-WR-CALDESC:Veranstaltungen für SLHC
REFRESH-INTERVAL;VALUE=DURATION:PT1H
X-Robots-Tag:noindex
X-PUBLISHED-TTL:PT1H
BEGIN:VTIMEZONE
TZID:Europe/Berlin
BEGIN:DAYLIGHT
TZOFFSETFROM:+0100
TZOFFSETTO:+0200
TZNAME:CEST
DTSTART:20220327T010000
END:DAYLIGHT
BEGIN:STANDARD
TZOFFSETFROM:+0200
TZOFFSETTO:+0100
TZNAME:CET
DTSTART:20221030T010000
END:STANDARD
BEGIN:DAYLIGHT
TZOFFSETFROM:+0100
TZOFFSETTO:+0200
TZNAME:CEST
DTSTART:20230326T010000
END:DAYLIGHT
BEGIN:STANDARD
TZOFFSETFROM:+0200
TZOFFSETTO:+0100
TZNAME:CET
DTSTART:20231029T010000
END:STANDARD
BEGIN:DAYLIGHT
TZOFFSETFROM:+0100
TZOFFSETTO:+0200
TZNAME:CEST
DTSTART:20240331T010000
END:DAYLIGHT
BEGIN:STANDARD
TZOFFSETFROM:+0200
TZOFFSETTO:+0100
TZNAME:CET
DTSTART:20241027T010000
END:STANDARD
END:VTIMEZONE
BEGIN:VEVENT
DTSTART;VALUE=DATE:20230615
DTEND;VALUE=DATE:20230618
DTSTAMP:20260423T164732
CREATED:20230127T154237Z
LAST-MODIFIED:20230127T154237Z
UID:3183-1686787200-1687046399@smart-living-health.de
SUMMARY:REHAB
DESCRIPTION:Rehabilitation\, Therapie\, Pflege\, Inklusion
URL:https://smart-living-health.de/veranstaltung/rehab/
LOCATION:Karlsruhe
CATEGORIES:Messe
END:VEVENT
BEGIN:VEVENT
DTSTART;TZID=Europe/Berlin:20230617T093000
DTEND;TZID=Europe/Berlin:20230617T170000
DTSTAMP:20260423T164732
CREATED:20230403T082421Z
LAST-MODIFIED:20230403T082421Z
UID:3265-1686994200-1687021200@smart-living-health.de
SUMMARY:PFLEGE VON ANGEHÖRIGEN - Den Pflegealltag mit ätherischen Ölen unterstützend begleiten
DESCRIPTION:Aromapflege vereint das Wissen über ätherische Öle in bewährten Rezepturen und deren praktikablen Anwendungen für die liebevolle Versorgung kurz- oder langfristiger Pflegebedürftigkeit unserer Kinder\, Partner*innen\, Eltern oder Schwiegereltern zu Hause. Wie gestalte ich den Alltag mit meinem zu Pflegenden? Auf was muss ich bei der täglichen Körperpflege achten und wie gehe ich mit Themen wie Demenz\, Schlag- anfall oder dem Tod um? All diese Fragen klären wir während des Kurses und werden uns zudem der häufig zu kurz kommenden Selbstpflege widmen\, die oft aufgrund der anhaltenden Dauerbelastung ein großes Thema in der Pflege zu Hause ist. \nKURSINHALTE \n\nGezielte Maßnahmen zur Selbstpflege\, um Gesundheit und Wohlbefinden zu erlangen\, wiederherzustellen und zu erhalten\nKennenlernenderwohltuendenkörperlichenundpsychischenWirkwei- sen der ätherischen Öle\nPraktischeAnwendungsmöglichkeitenderAromapflegeinderhäuslichen Versorgung sowie Tipps für die Alltagsgestaltung zu Hause\n\n\n\n\nKursleiterin: \nVictoria LacherPVL_Bewerbung_Seminar_AT_Pflege von Angehoerigen_03-2023 \n€ 178\,– inkl. Produktpaket und digitale Kursunterlagen \nVoraussetzung: Grundkenntnisse über ätherische Öle
URL:https://smart-living-health.de/veranstaltung/pflege-von-angehoerigen-den-pflegealltag-mit-aetherischen-oelen-unterstuetzend-begleiten/
LOCATION:Berlin
CATEGORIES:Digital
ATTACH;FMTTYPE=image/jpeg:https://smart-living-health.de/wp-content/uploads/2023/04/CF82C25A-D4D7-499E-88FC-2ADDEFE0DCDF.jpeg
ORGANIZER;CN="Primavera":MAILTO:info@primaveralife.com
END:VEVENT
END:VCALENDAR