BEGIN:VCALENDAR
VERSION:2.0
PRODID:-//SLHC - ECPv6.15.20//NONSGML v1.0//EN
CALSCALE:GREGORIAN
METHOD:PUBLISH
X-WR-CALNAME:SLHC
X-ORIGINAL-URL:https://smart-living-health.de
X-WR-CALDESC:Veranstaltungen für SLHC
REFRESH-INTERVAL;VALUE=DURATION:PT1H
X-Robots-Tag:noindex
X-PUBLISHED-TTL:PT1H
BEGIN:VTIMEZONE
TZID:Europe/Berlin
BEGIN:DAYLIGHT
TZOFFSETFROM:+0100
TZOFFSETTO:+0200
TZNAME:CEST
DTSTART:20220327T010000
END:DAYLIGHT
BEGIN:STANDARD
TZOFFSETFROM:+0200
TZOFFSETTO:+0100
TZNAME:CET
DTSTART:20221030T010000
END:STANDARD
BEGIN:DAYLIGHT
TZOFFSETFROM:+0100
TZOFFSETTO:+0200
TZNAME:CEST
DTSTART:20230326T010000
END:DAYLIGHT
BEGIN:STANDARD
TZOFFSETFROM:+0200
TZOFFSETTO:+0100
TZNAME:CET
DTSTART:20231029T010000
END:STANDARD
BEGIN:DAYLIGHT
TZOFFSETFROM:+0100
TZOFFSETTO:+0200
TZNAME:CEST
DTSTART:20240331T010000
END:DAYLIGHT
BEGIN:STANDARD
TZOFFSETFROM:+0200
TZOFFSETTO:+0100
TZNAME:CET
DTSTART:20241027T010000
END:STANDARD
END:VTIMEZONE
BEGIN:VEVENT
DTSTART;TZID=Europe/Berlin:20230614T160000
DTEND;TZID=Europe/Berlin:20230614T180000
DTSTAMP:20260423T164900
CREATED:20230505T144813Z
LAST-MODIFIED:20230601T121828Z
UID:3306-1686758400-1686765600@smart-living-health.de
SUMMARY:Balkon\, Terrasse\, Garten - Ideen für die barrierefreie Gestaltung und Aktivität
DESCRIPTION:Zu einem erfüllten\, selbstbestimmten Leben gehört nicht nur die Wohnung\, sondern das gesamte Wohnumfeld und die Außenbereiche. Im Rahmen einer Fachveranstaltung beleuchten wir\, welche innovativen Möglichkeiten es gibt\, trotz gesundheitlicher Einschränkungen sicher auf Balkon sowie Terrasse oder in den Garten zu gelangen. Darüber hinaus zeigen wir Lösungen auf\, um auch im Alter aktiv im Außenbereich zu sein. Wie kann Gärtnern bspw. auch im Rollstuhl ermöglicht werden? \nUnsere Referenten: \n Matthias FrankeDipl.-Ing. Landschaftsarchitekt\, Stadtplaner und Sachkundiger für Barrierefreiheit\n Uwe JürriesRollibeet\nHier geht’s zur Anmeldung \n\n  \n 
URL:https://smart-living-health.de/veranstaltung/balkon-terrasse-garten-ideen-fuer-die-barrierefreie-gestaltung-und-aktivtaet/
LOCATION:Haus der Zukunft am ukb\, Blumberger Damm 2k\, Berlin\, Berlin\, 12683\, Deutschland
CATEGORIES:Vor-Ort-Veranstaltung
END:VEVENT
END:VCALENDAR