BEGIN:VCALENDAR
VERSION:2.0
PRODID:-//SLHC - ECPv6.15.20//NONSGML v1.0//EN
CALSCALE:GREGORIAN
METHOD:PUBLISH
X-WR-CALNAME:SLHC
X-ORIGINAL-URL:https://smart-living-health.de
X-WR-CALDESC:Veranstaltungen für SLHC
REFRESH-INTERVAL;VALUE=DURATION:PT1H
X-Robots-Tag:noindex
X-PUBLISHED-TTL:PT1H
BEGIN:VTIMEZONE
TZID:Europe/Berlin
BEGIN:DAYLIGHT
TZOFFSETFROM:+0100
TZOFFSETTO:+0200
TZNAME:CEST
DTSTART:20220327T010000
END:DAYLIGHT
BEGIN:STANDARD
TZOFFSETFROM:+0200
TZOFFSETTO:+0100
TZNAME:CET
DTSTART:20221030T010000
END:STANDARD
BEGIN:DAYLIGHT
TZOFFSETFROM:+0100
TZOFFSETTO:+0200
TZNAME:CEST
DTSTART:20230326T010000
END:DAYLIGHT
BEGIN:STANDARD
TZOFFSETFROM:+0200
TZOFFSETTO:+0100
TZNAME:CET
DTSTART:20231029T010000
END:STANDARD
BEGIN:DAYLIGHT
TZOFFSETFROM:+0100
TZOFFSETTO:+0200
TZNAME:CEST
DTSTART:20240331T010000
END:DAYLIGHT
BEGIN:STANDARD
TZOFFSETFROM:+0200
TZOFFSETTO:+0100
TZNAME:CET
DTSTART:20241027T010000
END:STANDARD
END:VTIMEZONE
BEGIN:VEVENT
DTSTART;TZID=Europe/Berlin:20230509T160000
DTEND;TZID=Europe/Berlin:20230509T180000
DTSTAMP:20260425T131309
CREATED:20230421T153840Z
LAST-MODIFIED:20230427T110429Z
UID:3286-1683648000-1683655200@smart-living-health.de
SUMMARY:Rettet künstliche Intelligenz unsere Altenpflege?
DESCRIPTION:Digitale Technologie und künstliche Intelligenz könnten den Alltag unseres Pflegepersonals erleichtern und die Situation der pflegebedürftigen Menschen verbessern. Warum nutzen wir das bisher so wenig? \nWas hindert uns daran\, unsere Einrichtungenmit den neuesten Technologien auszustatten? \n\nWas hindert uns daran\, unsere Einrichtungen mit den neuesten Technologien auszustatten?\nHält uns unsere unzureichende technische Infrastruktur vom nächsten Schritt in der digitalisierten Altenpflege ab?\nWas muss sich bei unserer Gesetzgebung\, den Vorgaben der Kranken- und Pflegekassen und bei der Ausbildung unseres Pflegepersonals ändern\, damit wir neue Technologien endlich sinnvoll einsetzen?\n\nDiskutieren Sie mit: \n\nDr. Kathrin Seibert – Universität Bremen\, Institut für Public Health und P¨flegeforschung (IPP)\nSascha Saẞen – Korian ZQM\, Bereichsleitung\nMenia Ettrich – Spitzenverband digitale Gesundheitsversorgung\, AK leiterin für den Bereich DiPA und Digitale Pflege\nVera Led – Nobi\, Leitung DACH\n\n Zur Anmeldung
URL:https://smart-living-health.de/veranstaltung/rettet-kuenstliche-intelligenz-unsere-altenpflege/
LOCATION:Haus der Zukunft am ukb\, Blumberger Damm 2k\, Berlin\, Berlin\, 12683\, Deutschland
CATEGORIES:Konferenz,Pflege,Vor-Ort-Veranstaltung
ORGANIZER;CN="Smart Living & Health Center e.V.":MAILTO:info@haus-der-zukunft-am-ukb.de
END:VEVENT
END:VCALENDAR