BEGIN:VCALENDAR
VERSION:2.0
PRODID:-//SLHC - ECPv6.15.20//NONSGML v1.0//EN
CALSCALE:GREGORIAN
METHOD:PUBLISH
X-WR-CALNAME:SLHC
X-ORIGINAL-URL:https://smart-living-health.de
X-WR-CALDESC:Veranstaltungen für SLHC
REFRESH-INTERVAL;VALUE=DURATION:PT1H
X-Robots-Tag:noindex
X-PUBLISHED-TTL:PT1H
BEGIN:VTIMEZONE
TZID:Europe/Berlin
BEGIN:DAYLIGHT
TZOFFSETFROM:+0100
TZOFFSETTO:+0200
TZNAME:CEST
DTSTART:20220327T010000
END:DAYLIGHT
BEGIN:STANDARD
TZOFFSETFROM:+0200
TZOFFSETTO:+0100
TZNAME:CET
DTSTART:20221030T010000
END:STANDARD
BEGIN:DAYLIGHT
TZOFFSETFROM:+0100
TZOFFSETTO:+0200
TZNAME:CEST
DTSTART:20230326T010000
END:DAYLIGHT
BEGIN:STANDARD
TZOFFSETFROM:+0200
TZOFFSETTO:+0100
TZNAME:CET
DTSTART:20231029T010000
END:STANDARD
BEGIN:DAYLIGHT
TZOFFSETFROM:+0100
TZOFFSETTO:+0200
TZNAME:CEST
DTSTART:20240331T010000
END:DAYLIGHT
BEGIN:STANDARD
TZOFFSETFROM:+0200
TZOFFSETTO:+0100
TZNAME:CET
DTSTART:20241027T010000
END:STANDARD
END:VTIMEZONE
BEGIN:VEVENT
DTSTART;TZID=Europe/Berlin:20230428T100000
DTEND;TZID=Europe/Berlin:20230428T140000
DTSTAMP:20260425T171941
CREATED:20230210T083019Z
LAST-MODIFIED:20230210T083019Z
UID:3216-1682676000-1682690400@smart-living-health.de
SUMMARY:TransferTag - Gesundheit\, Erziehung und Bildung
DESCRIPTION:Der TransferTag ist ein gemeinsames Format des Regionalmanagements der Metropolregion Ost Berlin-Brandenburg und des Fachbereichs Gesundheit\, Erziehung und Bildung der Alice Salomon Hochschule Berlin (ASH). Ziel der eintägigen Berufsinformationsmesse ist es\, den Austausch zwischen Studierenden der ASH und Unternehmen bzw. Trägern der regionalen Gesundheitsbranche und aus dem Bereich der Kindheitspädagogik zu fördern.
URL:https://smart-living-health.de/veranstaltung/transfertag-gesundheit-erziehung-und-bildung/
LOCATION:Alice Salomon Hochschule Berlin\, Alice-Salomon-Platz 5\, Berlin\, 12627
END:VEVENT
END:VCALENDAR